BEGIN:VCALENDAR
VERSION:2.0
PRODID:-//Donatella Allegro - ECPv6.15.20//NONSGML v1.0//EN
CALSCALE:GREGORIAN
METHOD:PUBLISH
X-WR-CALNAME:Donatella Allegro
X-ORIGINAL-URL:https://www.donatellaallegro.it
X-WR-CALDESC:Eventi per Donatella Allegro
REFRESH-INTERVAL;VALUE=DURATION:PT1H
X-Robots-Tag:noindex
X-PUBLISHED-TTL:PT1H
BEGIN:VTIMEZONE
TZID:Europe/Rome
BEGIN:DAYLIGHT
TZOFFSETFROM:+0100
TZOFFSETTO:+0200
TZNAME:CEST
DTSTART:20230326T010000
END:DAYLIGHT
BEGIN:STANDARD
TZOFFSETFROM:+0200
TZOFFSETTO:+0100
TZNAME:CET
DTSTART:20231029T010000
END:STANDARD
BEGIN:DAYLIGHT
TZOFFSETFROM:+0100
TZOFFSETTO:+0200
TZNAME:CEST
DTSTART:20240331T010000
END:DAYLIGHT
BEGIN:STANDARD
TZOFFSETFROM:+0200
TZOFFSETTO:+0100
TZNAME:CET
DTSTART:20241027T010000
END:STANDARD
BEGIN:DAYLIGHT
TZOFFSETFROM:+0100
TZOFFSETTO:+0200
TZNAME:CEST
DTSTART:20250330T010000
END:DAYLIGHT
BEGIN:STANDARD
TZOFFSETFROM:+0200
TZOFFSETTO:+0100
TZNAME:CET
DTSTART:20251026T010000
END:STANDARD
END:VTIMEZONE
BEGIN:VEVENT
DTSTART;TZID=Europe/Rome:20241015T183000
DTEND;TZID=Europe/Rome:20241015T203000
DTSTAMP:20260422T133129
CREATED:20240925T125221Z
LAST-MODIFIED:20241104T203748Z
UID:7905-1729017000-1729024200@www.donatellaallegro.it
SUMMARY:Corso di lettura espressiva
DESCRIPTION:  \nIl corso è gratuito\, ma è richiesta la tessera Udi 2024 (costo 25 euro) \nPer iscrizioni e maggiori info: info@udibo.it oppure 051232313
URL:https://www.donatellaallegro.it/evento/corso-di-lettura-espressiva/
LOCATION:UDI Bologna\, via castiglione 24\, bologna\, BO\, 40124\, Italy
CATEGORIES:Laboratori
END:VEVENT
END:VCALENDAR