BEGIN:VCALENDAR
VERSION:2.0
PRODID:-//Donatella Allegro - ECPv6.15.20//NONSGML v1.0//EN
CALSCALE:GREGORIAN
METHOD:PUBLISH
X-WR-CALNAME:Donatella Allegro
X-ORIGINAL-URL:https://www.donatellaallegro.it
X-WR-CALDESC:Eventi per Donatella Allegro
REFRESH-INTERVAL;VALUE=DURATION:PT1H
X-Robots-Tag:noindex
X-PUBLISHED-TTL:PT1H
BEGIN:VTIMEZONE
TZID:Europe/Rome
BEGIN:DAYLIGHT
TZOFFSETFROM:+0100
TZOFFSETTO:+0200
TZNAME:CEST
DTSTART:20250330T010000
END:DAYLIGHT
BEGIN:STANDARD
TZOFFSETFROM:+0200
TZOFFSETTO:+0100
TZNAME:CET
DTSTART:20251026T010000
END:STANDARD
BEGIN:DAYLIGHT
TZOFFSETFROM:+0100
TZOFFSETTO:+0200
TZNAME:CEST
DTSTART:20260329T010000
END:DAYLIGHT
BEGIN:STANDARD
TZOFFSETFROM:+0200
TZOFFSETTO:+0100
TZNAME:CET
DTSTART:20261025T010000
END:STANDARD
BEGIN:DAYLIGHT
TZOFFSETFROM:+0100
TZOFFSETTO:+0200
TZNAME:CEST
DTSTART:20270328T010000
END:DAYLIGHT
BEGIN:STANDARD
TZOFFSETFROM:+0200
TZOFFSETTO:+0100
TZNAME:CET
DTSTART:20271031T010000
END:STANDARD
END:VTIMEZONE
BEGIN:VEVENT
DTSTART;TZID=Europe/Rome:20260423T203000
DTEND;TZID=Europe/Rome:20260423T223000
DTSTAMP:20260423T011934
CREATED:20260402T083313Z
LAST-MODIFIED:20260402T083313Z
UID:9032-1776976200-1776983400@www.donatellaallegro.it
SUMMARY:Senza Soglia in concerto
DESCRIPTION:Canti di amore\, lotta\, lavoro e anarchia\, con \n\nDonatella Allegro: voce\nDaniele Branchini: voce\, viola e chitarra\nFederico Oppi: batteria\nPaul Pieretto: contrabbasso\n\nscopri i SENZA SOGLIA
URL:https://www.donatellaallegro.it/evento/senza-soglia-in-concerto-2/
LOCATION:Circolo Il Casalone – Bologna\, via San Donato\, 149\, Bologna\, Bologna\, 40127\, Italy
CATEGORIES:Concerto
ATTACH;FMTTYPE=image/png:https://www.donatellaallegro.it/wp-content/uploads/2026/04/Schermata-2026-04-01-alle-18.46.25.png
END:VEVENT
END:VCALENDAR