BEGIN:VCALENDAR
VERSION:2.0
PRODID:-//Donatella Allegro - ECPv6.15.20//NONSGML v1.0//EN
CALSCALE:GREGORIAN
METHOD:PUBLISH
X-WR-CALNAME:Donatella Allegro
X-ORIGINAL-URL:https://www.donatellaallegro.it
X-WR-CALDESC:Eventi per Donatella Allegro
REFRESH-INTERVAL;VALUE=DURATION:PT1H
X-Robots-Tag:noindex
X-PUBLISHED-TTL:PT1H
BEGIN:VTIMEZONE
TZID:Europe/Rome
BEGIN:DAYLIGHT
TZOFFSETFROM:+0100
TZOFFSETTO:+0200
TZNAME:CEST
DTSTART:20250330T010000
END:DAYLIGHT
BEGIN:STANDARD
TZOFFSETFROM:+0200
TZOFFSETTO:+0100
TZNAME:CET
DTSTART:20251026T010000
END:STANDARD
BEGIN:DAYLIGHT
TZOFFSETFROM:+0100
TZOFFSETTO:+0200
TZNAME:CEST
DTSTART:20260329T010000
END:DAYLIGHT
BEGIN:STANDARD
TZOFFSETFROM:+0200
TZOFFSETTO:+0100
TZNAME:CET
DTSTART:20261025T010000
END:STANDARD
BEGIN:DAYLIGHT
TZOFFSETFROM:+0100
TZOFFSETTO:+0200
TZNAME:CEST
DTSTART:20270328T010000
END:DAYLIGHT
BEGIN:STANDARD
TZOFFSETFROM:+0200
TZOFFSETTO:+0100
TZNAME:CET
DTSTART:20271031T010000
END:STANDARD
END:VTIMEZONE
BEGIN:VEVENT
DTSTART;TZID=Europe/Rome:20260419T190000
DTEND;TZID=Europe/Rome:20260419T210000
DTSTAMP:20260421T141943
CREATED:20260402T082306Z
LAST-MODIFIED:20260402T082306Z
UID:9025-1776625200-1776632400@www.donatellaallegro.it
SUMMARY:I cocci del mio cuore
DESCRIPTION:drammaturgia a cura di Donatella Allegro\, con Donatella Allegro e Simone Francia \nmusiche dal vivo di Daniele Branchini \nSpettacolo teatrale ispirato alle voci dei cittadini e delle cittadine modenesi sulla Liberazione e la Resistenza. Voci di tutte le età si intrecciano sul palco e in registrazioni audio\, accompagnate da musica dal vivo\, per raccontare una memoria collettiva fatta di emozioni\, ricordi e partecipazione.
URL:https://www.donatellaallegro.it/evento/i-cocci-del-mio-cuore-2/
LOCATION:Teatro delle Passioni – Modena\, via Peretti\, 9\, Modena\, Modena\, 41124\, Italy
CATEGORIES:Spettacoli
END:VEVENT
END:VCALENDAR